BEGIN:VCALENDAR
VERSION:2.0
PRODID:icalendar-ruby
CALSCALE:GREGORIAN
METHOD:PUBLISH
BEGIN:VEVENT
DTSTAMP:20260424T105748Z
UID:8-382803@victorymemorial.org
DTSTART:20261018T174000Z
DTEND:20261018T184000Z
CLASS:PUBLIC
CREATED:20260423T220832
DESCRIPTION:Spanish Worship Service
LAST-MODIFIED:20260423T220832
LOCATION:
SUMMARY:Spanish Worship Service
URL;VALUE=URI:https://www.victorymemorial.org/events/spanish-worship-servic
 e/2026-10-18
END:VEVENT
END:VCALENDAR
