BEGIN:VCALENDAR
VERSION:2.0
PRODID:icalendar-ruby
CALSCALE:GREGORIAN
METHOD:PUBLISH
BEGIN:VEVENT
DTSTAMP:20260422T082458Z
UID:8-379382@victorymemorial.org
DTSTART:20261004T174000Z
DTEND:20261004T184000Z
CLASS:PUBLIC
CREATED:20260421T202754
DESCRIPTION:Spanish Worship Service
LAST-MODIFIED:20260421T202754
LOCATION:
SUMMARY:Spanish Worship Service
URL;VALUE=URI:https://www.victorymemorial.org/events/spanish-worship-servic
 e/2026-10-04
END:VEVENT
END:VCALENDAR
