BEGIN:VCALENDAR
VERSION:2.0
PRODID:icalendar-ruby
CALSCALE:GREGORIAN
METHOD:PUBLISH
BEGIN:VEVENT
DTSTAMP:20260420T070438Z
UID:8-375689@victorymemorial.org
DTSTART:20260927T174000Z
DTEND:20260927T184000Z
CLASS:PUBLIC
CREATED:20260419T230248
DESCRIPTION:Spanish Worship Service
LAST-MODIFIED:20260419T230248
LOCATION:
SUMMARY:Spanish Worship Service
URL;VALUE=URI:https://www.victorymemorial.org/events/spanish-worship-servic
 e/2026-09-27
END:VEVENT
END:VCALENDAR
