BEGIN:VCALENDAR
VERSION:2.0
PRODID:icalendar-ruby
CALSCALE:GREGORIAN
METHOD:PUBLISH
BEGIN:VEVENT
DTSTAMP:20260420T053220Z
UID:8-375688@victorymemorial.org
DTSTART:20260920T174000Z
DTEND:20260920T184000Z
CLASS:PUBLIC
CREATED:20260419T230248
DESCRIPTION:Spanish Worship Service
LAST-MODIFIED:20260419T230248
LOCATION:
SUMMARY:Spanish Worship Service
URL;VALUE=URI:https://www.victorymemorial.org/events/spanish-worship-servic
 e/2026-09-20
END:VEVENT
END:VCALENDAR
