BEGIN:VCALENDAR
VERSION:2.0
PRODID:icalendar-ruby
CALSCALE:GREGORIAN
METHOD:PUBLISH
BEGIN:VEVENT
DTSTAMP:20260420T035400Z
UID:8-375403@victorymemorial.org
DTSTART:20260913T174000Z
DTEND:20260913T184000Z
CLASS:PUBLIC
CREATED:20260419T192533
DESCRIPTION:Spanish Worship Service
LAST-MODIFIED:20260419T192533
LOCATION:
SUMMARY:Spanish Worship Service
URL;VALUE=URI:https://www.victorymemorial.org/events/spanish-worship-servic
 e/2026-09-13
END:VEVENT
END:VCALENDAR
