BEGIN:VCALENDAR
VERSION:2.0
PRODID:icalendar-ruby
CALSCALE:GREGORIAN
METHOD:PUBLISH
BEGIN:VEVENT
DTSTAMP:20260422T054315Z
UID:20-379446@victorymemorial.org
DTSTART:20261014T113000Z
DTEND:20261014T123000Z
CLASS:PUBLIC
CREATED:20260421T202754
DESCRIPTION:Come join the Methodist Men for fellowship\, a devotion\, and a
  $5 breakfast. Men who do not attend our church are also welcome!
LAST-MODIFIED:20260421T202754
LOCATION:Fellowship Hall
SUMMARY:Methodist Men's Breakfast
URL;VALUE=URI:https://www.victorymemorial.org/events/methodist-mens-breakfa
 st/2026-10-14
END:VEVENT
END:VCALENDAR
